BEGIN:VCALENDAR
VERSION:2.0
PRODID:-//Cairns RSL SubBranch - ECPv6.3.2//NONSGML v1.0//EN
CALSCALE:GREGORIAN
METHOD:PUBLISH
X-WR-CALNAME:Cairns RSL SubBranch
X-ORIGINAL-URL:https://crslsb.org.au
X-WR-CALDESC:Events for Cairns RSL SubBranch
REFRESH-INTERVAL;VALUE=DURATION:PT1H
X-Robots-Tag:noindex
X-PUBLISHED-TTL:PT1H
BEGIN:VTIMEZONE
TZID:Australia/Brisbane
BEGIN:STANDARD
TZOFFSETFROM:+1000
TZOFFSETTO:+1000
TZNAME:AEST
DTSTART:20220101T000000
END:STANDARD
END:VTIMEZONE
BEGIN:VEVENT
DTSTART;TZID=Australia/Brisbane:20220715T100000
DTEND;TZID=Australia/Brisbane:20220715T120000
DTSTAMP:20260422T053802
CREATED:20220608T044335Z
LAST-MODIFIED:20220608T044335Z
UID:52274-1657879200-1657886400@crslsb.org.au
SUMMARY:'Kick Start Golf'
DESCRIPTION:FREE Golf Lessons and Golf Day\nHere at the Cairns RSL Sub Branch\, we have been working hard to bring this event to our members  This event is for all Cairns RSL Sub Branch Members and their families\, whether you have never played golf before or have been playing for years\, here is your opportunity to come along and learn how to play or if you are a seasoned player come along and get some tips from Golf Pro Graham Bolton. \nWe are offering 2 x lessons/open days on Friday\, 15 July\, and Sunday 17 July with Golf Pro Graham Bolton\, and then it’s time to hit the greens for a round of golf on Sunday\, 7 August at Halfmoon Bay Golf Club with the Cairns RSL Sub Branch President ‘Blu Langham’.  This event is entirely FREE and all equipment and green fees will be covered by the Cairns RSL Sub Branch.  If you have your own clubs please feel free to bring them. \nTo Register for one or both Lessons with Golf Pro Graham Bolton Friday\, 15 July\, and Sunday\, 17 July\, please click on the below link: –\nhttps://www.eventbrite.com.au/e/354983434007 \nTo Register for the Cairns RSL Sub Branch Golf Day Sunday\, 7 August 2022\, please click on the below link: –\nhttps://www.eventbrite.com.au/e/354987817117 \n 
URL:https://crslsb.org.au/event/kick-start-golf/2022-07-15/
LOCATION:115 Esplanade\, Cairns\, Queensland\, 4870\, Australia
CATEGORIES:Other Events
ATTACH;FMTTYPE=image/png:https://crslsb.org.au/wp-content/uploads/2022/06/Kick-Start-GOLF-final.png
ORGANIZER;CN="Cairns RSL Sub Branch":MAILTO:admin@crslsb.org.au
GEO:-16.917679;145.7747862
X-APPLE-STRUCTURED-LOCATION;VALUE=URI;X-ADDRESS=115 Esplanade Cairns Queensland 4870 Australia;X-APPLE-RADIUS=500;X-TITLE=115 Esplanade:geo:145.7747862,-16.917679
END:VEVENT
END:VCALENDAR