BEGIN:VCALENDAR
VERSION:2.0
PRODID:-//Cairns RSL SubBranch - ECPv4.9.12//NONSGML v1.0//EN
CALSCALE:GREGORIAN
METHOD:PUBLISH
X-WR-CALNAME:Cairns RSL SubBranch
X-ORIGINAL-URL:https://crslsb.org.au
X-WR-CALDESC:Events for Cairns RSL SubBranch
BEGIN:VTIMEZONE
TZID:Australia/Brisbane
BEGIN:STANDARD
TZOFFSETFROM:+1000
TZOFFSETTO:+1000
TZNAME:AEST
DTSTART:20210101T000000
END:STANDARD
END:VTIMEZONE
BEGIN:VEVENT
DTSTART;TZID=Australia/Brisbane:20210307T110000
DTEND;TZID=Australia/Brisbane:20210307T130000
DTSTAMP:20210224T072100
CREATED:20201215T224325Z
LAST-MODIFIED:20201215T230208Z
UID:50881-1615114800-1615122000@crslsb.org.au
SUMMARY:International Women's Day 2021
DESCRIPTION:It is our pleasure with Cairns and District Ex-Service Women’s Sub Branch\, to invite you to International Women’s Day 2021. \nThis year will see us holding the event at the Pullman International Cairns for none other than their famous High Tea. Your ticket includes the High Tea and a glass of sparkling wine on arrival. \nSub Branch members will have a special price of $50 and Non Sub Branch members will be $55 \nTickets can be purchased at the links below \nSub Branch Member Ticket \nNon Sub Branch Ticket \nEach year we host the event to celebrate women in our community and in particular within our Defence Community. We recognise those women who have served or are serving our country and the outstanding achievements they have made during their service. \nKeynote speaker Veteran\, Sarah Turner is a truly inspiring women who has taken a holistic approach to health and healing. She has some exciting news for us which she will announce at the event. \nWe have some amazing raffle prizes up for grabs with the following sponsors \nPassions of Paradise – Reef Tour for 2 \nEnigma Hair and Beauty – $150 hair and beauty voucher to spend on any treatment you desire \nDefence Health – NESPRESSO Essenza Mini coffee machine by Delonghi to make those early start more bearable \nRegan O’Neill Art handcrafted earrings to look fabulous everytime \nTo purchase Raffle Tickets click here for $2 a ticket or here for 3 for $5 \nInternational Women’s Day is celebrated across the world on 8th March annually. The purpose of the day is to recognise women and their achievements regardless of nationality\, ethnicity or cultural\, political or economic background. \n
URL:https://crslsb.org.au/event/international-womens-day-2021/
LOCATION:115 Esplanade\, Cairns\, Queensland\, 4870\, Australia
CATEGORIES:Other Events
ATTACH;FMTTYPE=image/jpeg:https://crslsb.org.au/wp-content/uploads/2020/12/Cairns-RSL_IWD-2021_A4-flyer-1.jpg
ORGANIZER;CN="Cairns%20RSL%20Sub%20Branch":MAILTO:admin@crslsb.org.au
GEO:-16.917679;145.7747862
X-APPLE-STRUCTURED-LOCATION;VALUE=URI;X-ADDRESS=115 Esplanade Cairns Queensland 4870 Australia;X-APPLE-RADIUS=500;X-TITLE=115 Esplanade:geo:145.7747862,-16.917679
END:VEVENT
BEGIN:VEVENT
DTSTART;TZID=Australia/Brisbane:20210327T100000
DTEND;TZID=Australia/Brisbane:20210327T103000
DTSTAMP:20210224T072100
CREATED:20210212T223442Z
LAST-MODIFIED:20210212T224637Z
UID:50931-1616839200-1616841000@crslsb.org.au
SUMMARY:100th Anniversary of the RAAF Commemorative Service
DESCRIPTION:Come along to the Catalina Memorial on the 27th March 2021 at 10:00am to help us remember the last 100 years of the RAAF. \nThe RAAF traces its history back to the Imperial Conference in 1911. It was here that it was decided\, aviation should be developed within the Armed Forces of the British Empire. Australia was the only country to implemented this decision\, by approving the establishment of the Central Flying School (CFS) in 1912. The location for the proposed school was initially to be at Duntroon\, Australian Capital Territory\, but in July 1913 Point Cook\, Victoria\, was announced as the preferred location. The first flights by CFS aircraft took place there in March 1914. \nThe Australian Flying Corps (AFC) was formed as a Militia unit\, with staff and students to be selected from the Citizen Forces. After an abortive deployment to German New Guinea at the end of 1914 as part of the Australian Naval and Military Expeditionary Force\, it earned a most creditable reputation in both Palestine and France during World War I as a part of the Australian Imperial Force (AIF). The AFC remained part of the Australian Army until 1919\, when it was disbanded along with the AIF. Although the CFS continued to operate at Point Cook\, military flying virtually ceased until 1920\, when the Australian Air Corps was formed. The Australian Air Force was formed on 31 March 1921. \n
URL:https://crslsb.org.au/event/100th-anniversary-of-the-raaf-commemorative-service-catalina-memorial-site/
LOCATION:Cairns Esplanade Catalina Memorial\, Cairns North\, Queensland\, 4870\, Australia
ATTACH;FMTTYPE=image/jpeg:https://crslsb.org.au/wp-content/uploads/2021/02/57ebb5df319cae4662c5e94c82ee040c.jpg
ORGANIZER;CN="Cairns%20RSL%20Sub%20Branch":MAILTO:admin@crslsb.org.au
GEO:-16.9029056;145.763398
END:VEVENT
BEGIN:VEVENT
DTSTART;TZID=Australia/Brisbane:20210327T120000
DTEND;TZID=Australia/Brisbane:20210327T150000
DTSTAMP:20210224T072100
CREATED:20210215T231704Z
LAST-MODIFIED:20210216T234211Z
UID:50945-1616846400-1616857200@crslsb.org.au
SUMMARY:100th Anniversary of the RAAF
DESCRIPTION:2021 marks the 100th Anniversary of the Royal Australian Air Force. \nWe are calling on everyone\, regardless of service\, to help us celebrate this huge milestone. \nThe event will be held at the Red Beret upstairs in the Madison function room on the 27th March 2021 from 12:00pm to 3:00pm. \nTicket price is $40 for Sub Branch members and $45 for all other attendees. It will include a selection of 12 different canapes\, and a drink on arrival. \nWe have the amazing Fingerprint band providing the entertainment\, and some fantastic raffle prizes up for grabs. \nDaydream Island have donated an accommodation package \nPackage includes the following; \n\n1 nights’ accommodation in a Resort King Room for 2 adults\nBreakfast included\n\nA 2020 signed Parramatta Eels football guernsey\, where the value is in the eye of the biggest supporter. Don’t miss your chance to pick up this great prize. \nA hamper filled with lots of goodies valued at $260 \nOur Guest Speaker for the evening will be Myles Thompson. \nDress code for the event will be smart casual. If you unsure\, please don’t hesitate to contact our office (07) 4051 5254. \nParking is available at the venue. \nIf you require assistance\, please advise prior to the event so arrangements can be made to ensure your safety. \nThere is only 80 tickets available\, so book early to guarantee your seats and avoid disappointment. \n
URL:https://crslsb.org.au/event/100th-anniversary-of-the-raaf/
LOCATION:Red Beret\, 411 Kamerunga Road\, Redlynch\, QLD\, 4879\, Australia
CATEGORIES:Other Events
ATTACH;FMTTYPE=image/jpeg:https://crslsb.org.au/wp-content/uploads/2021/02/Cairns-RSL_100th-RAAF_A4-flyer-scaled.jpg
ORGANIZER;CN="Cairns%20RSL%20Sub%20Branch":MAILTO:admin@crslsb.org.au
GEO:-16.8876189;145.6966413
X-APPLE-STRUCTURED-LOCATION;VALUE=URI;X-ADDRESS=Red Beret 411 Kamerunga Road Redlynch QLD 4879 Australia;X-APPLE-RADIUS=500;X-TITLE=411 Kamerunga Road:geo:145.6966413,-16.8876189
END:VEVENT
BEGIN:VEVENT
DTSTART;TZID=Australia/Brisbane:20210425T053000
DTEND;TZID=Australia/Brisbane:20210425T100000
DTSTAMP:20210224T072100
CREATED:20210219T012551Z
LAST-MODIFIED:20210219T012551Z
UID:50981-1619328600-1619344800@crslsb.org.au
SUMMARY:ANZAC Day 2021
DESCRIPTION:ANZAC Day is a national day of remembrance for those who served in the Australian Defence Forces from the Boer War to Afghanistan\, including all those who are currently deployed on active service. We remember those who paid the supreme sacrifice so that we\, and the people of our nation\, can live in a safe and peaceful country. We remember those who continue to suffer as a result of the hidden scars long after their duty is completed and the families of whose grief and sense of loss can never be eased. \nThe ANZAC Day Dawn Service lasts approximately 45 minutes and is a non-ticketed event open to all members of the public. \nRegistration is required if you wish to place a wreath or if you are a member of a group wishing to participate in the march. To register please contact Gillian at the Cairns RSL Sub Branch on (07) 4051 5254 or admin@crslsb.org.au by Thursday 22nd April. After this we will no longer be taking registrations. \nWe will be complying with Federal\, State\, and local COVID guidelines and plans to ensure the commemorative service goes ahead and for the safety of the community. \nANZAC DAY EVENT DETAILS \nDAWN SERVICE\nDate: Sunday 25 April 2021\nTime: 5.30am – 6:15am\nVenue: Cairns Cenotaph\, Esplanade Cairns \nANZAC DAY PARADE\nEvent: Thursday 25 April 2021\nVenue: Form up at Munro Martin Park. End point Aplin Street\nTime: 7:00am Form up\n7:45am Step off\n8:10am Arrive at Aplin Street \nCOMMEMORATION SERVICE\nDate: Thursday 25 April 2021\nTime: 8:30am – 9:15am\nVenue: Cairns Cenotaph \n**Please check regularly for updates \n
URL:https://crslsb.org.au/event/anzac-day-2021/
LOCATION:115 Esplanade\, Cairns\, Queensland\, 4870\, Australia
CATEGORIES:Commemorative Events
ATTACH;FMTTYPE=image/jpeg:https://crslsb.org.au/wp-content/uploads/2021/02/ANZAC-Day-2021.jpg
ORGANIZER;CN="Cairns%20RSL%20Sub%20Branch":MAILTO:admin@crslsb.org.au
GEO:-16.917679;145.7747862
X-APPLE-STRUCTURED-LOCATION;VALUE=URI;X-ADDRESS=115 Esplanade Cairns Queensland 4870 Australia;X-APPLE-RADIUS=500;X-TITLE=115 Esplanade:geo:145.7747862,-16.917679
END:VEVENT
END:VCALENDAR