BEGIN:VCALENDAR
VERSION:2.0
PRODID:-//Cairns RSL SubBranch - ECPv6.3.2//NONSGML v1.0//EN
CALSCALE:GREGORIAN
METHOD:PUBLISH
X-WR-CALNAME:Cairns RSL SubBranch
X-ORIGINAL-URL:https://crslsb.org.au
X-WR-CALDESC:Events for Cairns RSL SubBranch
REFRESH-INTERVAL;VALUE=DURATION:PT1H
X-Robots-Tag:noindex
X-PUBLISHED-TTL:PT1H
BEGIN:VTIMEZONE
TZID:Australia/Brisbane
BEGIN:STANDARD
TZOFFSETFROM:+1000
TZOFFSETTO:+1000
TZNAME:AEST
DTSTART:20240101T000000
END:STANDARD
END:VTIMEZONE
BEGIN:VEVENT
DTSTART;TZID=Australia/Brisbane:20240818T160000
DTEND;TZID=Australia/Brisbane:20240818T170000
DTSTAMP:20260426T103137
CREATED:20240619T062311Z
LAST-MODIFIED:20240619T062311Z
UID:54914-1723996800-1724000400@crslsb.org.au
SUMMARY:Vietnam Veterans' Commemorative Service
DESCRIPTION:Australia’s involvement in the Vietnam War began in 1962 with the arrival of the Australian Army Training Team Vietnam (AATTV) in South Vietnam. Almost 60\,000 Australians\, including Army\, Navy and Air Force personnel\, served in Vietnam; 521 died as a result of the war and over 3\,000 were wounded. \nWHEN: 4:00 PM\, Sunday\,  18 August 2023\nWHERE: Cairns Cenotaph\, Esplanade\, Cairns \nWREATH-LAYING: Members of the public who wish to lay a wreath are required to register with the Cairns RSL Sub Branch by close of business Wednesday \, 14 August. Any members who are not registered and wish to lay a wreath will have the opportunity to do so at the conclusion of the service. To register to lay a wreath please email details to admin@crslsb.org.au or call Liz – 4249 3030 \nMembers of the public who are laying a wreath are to supply their own and it is their responsibility to carry it with them. There are no facilities or arrangements for storage or transport of personal wreaths at the service \nDETAILS: \n\nThe service will be conducted outdoors with seating and temporary shelter provided.\nVisitors should ensure they are appropriately equipped with hats\, water bottles\, and sunscreen.\nLimited medical support is provided at the commemoration. Attendees that have medical conditions should come prepared.\nSeating at the commemorative service is not allocated or reserved and is available on a first-come\, first-served basis.
URL:https://crslsb.org.au/event/vietnam-veterans-commemorative-service/
LOCATION:Cairns Cenotaph\, Cairns\, Queensland\, 4870\, Australia
CATEGORIES:Commemorative Events
ATTACH;FMTTYPE=application/pdf:https://crslsb.org.au/wp-content/uploads/2024/06/Vietnam-Veterans-Day-flyer-2024.pdf
ORGANIZER;CN="Cairns RSL Sub Branch":MAILTO:admin@crslsb.org.au
GEO:-16.917005;145.77537
END:VEVENT
END:VCALENDAR