BEGIN:VCALENDAR
VERSION:2.0
PRODID:-//Cairns RSL SubBranch - ECPv6.3.2//NONSGML v1.0//EN
CALSCALE:GREGORIAN
METHOD:PUBLISH
X-WR-CALNAME:Cairns RSL SubBranch
X-ORIGINAL-URL:https://crslsb.org.au
X-WR-CALDESC:Events for Cairns RSL SubBranch
REFRESH-INTERVAL;VALUE=DURATION:PT1H
X-Robots-Tag:noindex
X-PUBLISHED-TTL:PT1H
BEGIN:VTIMEZONE
TZID:Australia/Brisbane
BEGIN:STANDARD
TZOFFSETFROM:+1000
TZOFFSETTO:+1000
TZNAME:AEST
DTSTART:20260101T000000
END:STANDARD
END:VTIMEZONE
BEGIN:VEVENT
DTSTART;TZID=Australia/Brisbane:20260425T050000
DTEND;TZID=Australia/Brisbane:20260425T080000
DTSTAMP:20260422T035911
CREATED:20260421T102258Z
LAST-MODIFIED:20260421T112236Z
UID:58010-1777093200-1777104000@crslsb.org.au
SUMMARY:ANZAC Day Dawn Service 2026
DESCRIPTION:ANZAC DAY DAWN SERVICE 2026\n\n\n\n\n\n\n\n\n\n\n\n\n\n\n\n\n\n\n\n\n\n\n\n\n\nJoin us as we come together as a community to honour the service\, sacrifice\, and enduring spirit of our servicemen and women this ANZAC Day.\n\nThe Cairns RSL Sub Branch warmly invites you to attend the 2026 ANZAC Day Dawn Service at the Cairns Cenotaph\, a time for reflection\, remembrance\, and respect.\n\nThis year’s theme: Women in ServiceWe pay special tribute to the invaluable contributions\, courage\, and dedication of women who have served\, past and present\, and recognise the vital role they continue to play in shaping our Defence Force and veteran community.\n\n2026 holds special significance for our region\, as we also commemorate 150 years of Cairns and 100 years of the Cairns Cenotaph\, milestones that deepen the meaning of this year’s service and our shared history.\n\nMarch into ServiceForm up at Aquarius Apartments at 5:15 AM\n\nDawn ServiceCairns Cenotaph5:00 AM\n\nMarch Form UpFogarty Park from 6:45 AM\n\nANZAC Day March7:30 AM\n\n\n\n\n\n\n\n\n\n\nCan’t make the service in person? No worries\, you can still be part of this special moment 🌿 \nWatch the ANZAC Day Dawn Service and march live HERE. \nLet us stand together to reflect\, remember\, and honour all who have served\, especially the women whose service and sacrifice continue to inspire future generations. \nLest we Forget.
URL:https://crslsb.org.au/event/anzac-day-dawn-service-2026/
LOCATION:Cairns Cenotaph\, Cairns\, Queensland\, 4870\, Australia
CATEGORIES:Commemorative Events
ATTACH;FMTTYPE=image/webp:https://crslsb.org.au/wp-content/uploads/2026/04/8f6850a2-1f5e-4f9b-8e67-aa5e37f0e917.webp
ORGANIZER;CN="Cairns RSL Sub Branch":MAILTO:admin@crslsb.org.au
GEO:-16.917005;145.77537
END:VEVENT
END:VCALENDAR