BEGIN:VCALENDAR
VERSION:2.0
PRODID:-//Cairns RSL SubBranch - ECPv6.3.2//NONSGML v1.0//EN
CALSCALE:GREGORIAN
METHOD:PUBLISH
X-WR-CALNAME:Cairns RSL SubBranch
X-ORIGINAL-URL:https://crslsb.org.au
X-WR-CALDESC:Events for Cairns RSL SubBranch
REFRESH-INTERVAL;VALUE=DURATION:PT1H
X-Robots-Tag:noindex
X-PUBLISHED-TTL:PT1H
BEGIN:VTIMEZONE
TZID:Australia/Brisbane
BEGIN:STANDARD
TZOFFSETFROM:+1000
TZOFFSETTO:+1000
TZNAME:AEST
DTSTART:20190101T000000
END:STANDARD
END:VTIMEZONE
BEGIN:VEVENT
DTSTART;TZID=Australia/Brisbane:20190412T090000
DTEND;TZID=Australia/Brisbane:20190412T150000
DTSTAMP:20260422T040153
CREATED:20190408T142637Z
LAST-MODIFIED:20190909T001401Z
UID:1740-1555059600-1555081200@crslsb.org.au
SUMMARY:CAIRNS POPPY ON
DESCRIPTION:Join us on the second Friday of the month for a free poppy workshop. \nAll materials supplied\, simply drop by any time between 9:00am – 4:00pm. \nFor more information contact Iulia 0408 792 123 or iuliaw@yahoo.com. \nThis workshop is a continuation of the 5\,000 poppies appeal.
URL:https://crslsb.org.au/event/cairns-poppy-on/2019-04-12/
LOCATION:Board Room\, 115 Esplanade\, Cairns\, Queensland\, 4870\, Australia
ATTACH;FMTTYPE=image/jpeg:https://crslsb.org.au/wp-content/uploads/2019/04/Poppies-1.jpg
ORGANIZER;CN="Cairns RSL Sub Branch":MAILTO:admin@crslsb.org.au
GEO:-16.917679;145.7747862
X-APPLE-STRUCTURED-LOCATION;VALUE=URI;X-ADDRESS=Board Room 115 Esplanade Cairns Queensland 4870 Australia;X-APPLE-RADIUS=500;X-TITLE=115 Esplanade:geo:145.7747862,-16.917679
END:VEVENT
BEGIN:VEVENT
DTSTART;TZID=Australia/Brisbane:20190331T200000
DTEND;TZID=Australia/Brisbane:20190331T210000
DTSTAMP:20260422T040153
CREATED:20190228T144040Z
LAST-MODIFIED:20190228T145555Z
UID:1653-1554062400-1554066000@crslsb.org.au
SUMMARY:Annual General Meeting
DESCRIPTION:
URL:https://crslsb.org.au/event/annual-general-meeting/
LOCATION:115 Esplanade\, Cairns\, Queensland\, 4870\, Australia
CATEGORIES:Meetings
ATTACH;FMTTYPE=image/jpeg:https://crslsb.org.au/wp-content/uploads/2018/07/Cairns_RSL_Slider-4.jpg
ORGANIZER;CN="Cairns RSL Sub Branch":MAILTO:admin@crslsb.org.au
GEO:-16.917679;145.7747862
X-APPLE-STRUCTURED-LOCATION;VALUE=URI;X-ADDRESS=115 Esplanade Cairns Queensland 4870 Australia;X-APPLE-RADIUS=500;X-TITLE=115 Esplanade:geo:145.7747862,-16.917679
END:VEVENT
BEGIN:VEVENT
DTSTART;TZID=Australia/Brisbane:20190308T170000
DTEND;TZID=Australia/Brisbane:20190308T183000
DTSTAMP:20260422T040153
CREATED:20190128T204142Z
LAST-MODIFIED:20190303T155322Z
UID:1526-1552064400-1552069800@crslsb.org.au
SUMMARY:International Women's Day Breakfast
DESCRIPTION:The Cairns RSL Sub Branch in partnership with the Cairns and District’s Ex-Service Women’s Sub Branch will be hosting our annual International Women’s Day breakfast to celebrate the wonderful contributions women have made to the community. \nThere is no doubt that key note speaker Natalee Johnston will move and inspire guest with tales of her career in the Royal Australian Navy (RAN). \nNatalee joined the Royal Australian Navy in January 1994 and within four years had gone on to complete her Bachelor of Science majoring in Physics\, gained her pilots wings and become the RAN’s first female pilot. \nGuest will be given the opportunity for Q&A session and to meet Natalee.  The breakfast will also include a hot/cold buffet style breakfast and an extensive range of raffle prizes to win thanks to the following local businesses – Regan O’Neill Art\, Piccone’s Supa IGA\, Elysium Apartments\, Our Happy Life\, Louie’s Liquor Barn\, Cairns ZOOM and Wildlife Doom\, Kuranda Scenic Railway\, Reef Hotel Casino\, Cazaly’s Cairns\, Tjapukai and Brothers League Club. \nThis is sure to be a sold out event not to be missed! Tickets can be purchased online at our shop or by phoning 4051 5254.
URL:https://crslsb.org.au/event/international-womens-day-breakfast/
LOCATION:Catalina Room\, 115 Esplanade\, Cairns\, Queensland\, 4870\, Australia
CATEGORIES:Other Events
ATTACH;FMTTYPE=image/jpeg:https://crslsb.org.au/wp-content/uploads/2019/01/Sold-out-Cairns-Post-quarter-page-ad.jpg
ORGANIZER;CN="Cairns RSL Sub Branch":MAILTO:admin@crslsb.org.au
GEO:-16.917679;145.7747862
X-APPLE-STRUCTURED-LOCATION;VALUE=URI;X-ADDRESS=Catalina Room 115 Esplanade Cairns Queensland 4870 Australia;X-APPLE-RADIUS=500;X-TITLE=115 Esplanade:geo:145.7747862,-16.917679
END:VEVENT
END:VCALENDAR