BEGIN:VCALENDAR
VERSION:2.0
PRODID:-//Cairns RSL SubBranch - ECPv6.3.2//NONSGML v1.0//EN
CALSCALE:GREGORIAN
METHOD:PUBLISH
X-WR-CALNAME:Cairns RSL SubBranch
X-ORIGINAL-URL:https://crslsb.org.au
X-WR-CALDESC:Events for Cairns RSL SubBranch
REFRESH-INTERVAL;VALUE=DURATION:PT1H
X-Robots-Tag:noindex
X-PUBLISHED-TTL:PT1H
BEGIN:VTIMEZONE
TZID:Australia/Brisbane
BEGIN:STANDARD
TZOFFSETFROM:+1000
TZOFFSETTO:+1000
TZNAME:AEST
DTSTART:20190101T000000
END:STANDARD
END:VTIMEZONE
BEGIN:VEVENT
DTSTART;TZID=Australia/Brisbane:20190425T153000
DTEND;TZID=Australia/Brisbane:20190425T220000
DTSTAMP:20260422T034758
CREATED:20190128T205653Z
LAST-MODIFIED:20190415T152912Z
UID:1539-1556206200-1556229600@crslsb.org.au
SUMMARY:ANZAC Day
DESCRIPTION:There has not been a year since 1947 when Australian peacekeepers were not in the field\, this year marks the 20th Anniversary of the International Force East Timor. In response to the escalating violence and very real humanitarian crisis overwhelming the people of East Timor\, the United Nations called on Australia to lead the International Force for East Timor (INTERFET).  Led by Major General Peter Cosgrove\, Australia contributed 5\,500 personnel in order to address the humanitarian and security crisis taking place. \nANZAC Day is a national day of remembrance for those who served in the Australian Defence Forces from the Boer War to Afghanistan\, including all those who are currently deployed on active service. We remember those who paid the supreme sacrifice so that we\, and the people of our nation\, can live in a safe and peaceful country. We remember those who continue to suffer as a result of the hidden scars long after their duty is completed and the families of whose grief and sense of loss can never be eased. \nThe ANZAC Day Dawn Service lasts approximately 45 minutes and is a non-ticketed event open to all members of the public. \nRegistration is required if you wish to place a wreath or if you are a member of a group wishing to participate in the march. To register please contact Niki at the Cairns RSL Sub Branch on (07) 4051 5254 or admin@crslsb.org.au by Tuesday 23 April. After this we will no longer be taking registrations. \nCairns RSL Sub Branch is offering transport for veterans to attend the Ecumenical Service and join the parade (see below for pick up times and location). If you require a seat in a vehicle for the parade call Niki on (07) 4051 5254. \nBUS PICK UP TIMES AND LOCATION \n6:15am – 7:20am Bus pick up on Florence Street to Fogarty Park for the parade \n9:00am – 9:30am Bus pick up on Florence Street to St Monica’s Cathedral for the Ecumenical Service \n10:30am – 11:00am Pick up outside the front of St Monica’s Cathedral at 181 Abbott St\, Cairns City for transport to the Cairns RSL Club \nANZAC DAY EVENT DETAILS \nGUNFIRE BREAKFAST\nDate: Thursday 25 April 2019\nTime: 4:30am – 5:00am\nVenue: RSL Club\, 115 Esplanade Cairns\n*Please note this is for VETERAN and ADF personnel ONLY \nDAWN SERVICE\nDate: Thursday 25 April 2019\nTime: 5.30am – 6:15am\nVenue: Cairns Cenotaph\, Esplanade Cairns \nVETERAN BREAKFAST\nDate: Thursday 25 April 2019\nTime: 6:15am – 11:30am\nVenue: RSL Car Park\, 115 Esplanade Cairns\n*Please note this is for VETERAN and ADF personnel ONLY \nANZAC DAY PARADE\nEvent: Thursday 25 April 2019\nVenue: Form up at Fogarty Park. End point Cairns Cenotaph\nTime: 7:00am Form up\n7:30am Step off\n8:00am Arrive at Cenotaph \nCOMMEMORATION SERVICE\nDate: Thursday 25 April 2019\nTime: 8:15am – 9:00am\nVenue: Cairns Cenotaph \nECUMENICAL SERVICE\nDate: Thursday 25 April 2019\nTime: 9:30am – 10:30am\nVenue: St Monica’s Cathedral\, 181 Abbott St\, Cairns City \nVETERAN AND FAMILY FUNCTION\nDate: Thursday 25 April 2019\nTime: 9:00am – 1:00pm\nVenue: Level One\, Cairns RSL Club \nHISTORY OF INTERFET – www.awm.gov.au/articles/peacekeeping \nThe Portuguese colony of East Timor was invaded by Indonesia in 1975. After almost a quarter-century of bloodshed in the territory\, a new Indonesian government under President Habibie agreed to allow the East Timorese to vote on their future. A UN operation – the United Nations Mission in East Timor (UNAMET) – was established to organize and conduct the vote\, which was held at the end of August 1999 and resulted in an overwhelming vote in favour of independence. \nTragically\, once the result had been announced\, pro-Indonesian militias\, sometimes with the support of elements of the Indonesian security forces\, launched a campaign of violence\, looting and arson throughout the entire territory. Many East Timorese were killed\, and as many as 500\,000 were displaced from their homes\, about half leaving the territory\, in some cases under threat of violence. \nEventually\, as the violence remained uncontrolled\, Indonesia agreed to the deployment of a multinational peacekeeping force. Australia\, which had contributed police to UNAMET\, organized and led the International Force for East Timor (Interfet)\, a non-UN force operating in accordance with UN resolutions. Interfet\, with the role of restoring peace and security\, protecting and supporting UNAMET\, and facilitating humanitarian assistance operations\, began arriving on 12 September 1999. Australia contributed over 5\,500 personnel and the force commander\, Major General Peter Cosgrove. \nWith the withdrawal of the Indonesian armed forces\, police and administrative officials from East Timor\, UNAMET re-established its headquarters in Dili on 28 September. On 19 October 1999\, Indonesia formally recognised the result of the referendum. Shortly thereafter\, the United Nations Transitional Administration in East Timor (UNTAET) was established as an integrated\, multi-dimensional peacekeeping operation\, fully responsible for the administration of East Timor during its transition to independence. The hand-over of command of military operations from Interfet to UNTAET was completed on 28 February 2000. Australia has continued to support the UN peacekeeping operation with between 1\,500 and 2\,000 personnel\, as well as landing craft and Blackhawk helicopters. Australia remains the largest contributor of personnel to the peacekeeping mission.
URL:https://crslsb.org.au/event/anzac-day/
LOCATION:115 Esplanade\, Cairns\, Queensland\, 4870\, Australia
CATEGORIES:Commemorative Events
ATTACH;FMTTYPE=image/png:https://crslsb.org.au/wp-content/uploads/2019/01/ANZAC-DAY-photo-2019.png
ORGANIZER;CN="Cairns RSL Sub Branch":MAILTO:admin@crslsb.org.au
GEO:-16.917679;145.7747862
X-APPLE-STRUCTURED-LOCATION;VALUE=URI;X-ADDRESS=115 Esplanade Cairns Queensland 4870 Australia;X-APPLE-RADIUS=500;X-TITLE=115 Esplanade:geo:145.7747862,-16.917679
END:VEVENT
END:VCALENDAR