BEGIN:VCALENDAR
VERSION:2.0
PRODID:-//Cairns RSL SubBranch - ECPv6.3.2//NONSGML v1.0//EN
CALSCALE:GREGORIAN
METHOD:PUBLISH
X-ORIGINAL-URL:https://crslsb.org.au
X-WR-CALDESC:Events for Cairns RSL SubBranch
REFRESH-INTERVAL;VALUE=DURATION:PT1H
X-Robots-Tag:noindex
X-PUBLISHED-TTL:PT1H
BEGIN:VTIMEZONE
TZID:Australia/Brisbane
BEGIN:STANDARD
TZOFFSETFROM:+1000
TZOFFSETTO:+1000
TZNAME:AEST
DTSTART:20190101T000000
END:STANDARD
END:VTIMEZONE
BEGIN:VEVENT
DTSTART;TZID=Australia/Brisbane:20190531T180000
DTEND;TZID=Australia/Brisbane:20190601T030000
DTSTAMP:20260422T034800
CREATED:20190522T203522Z
LAST-MODIFIED:20190522T203705Z
UID:1815-1559325600-1559358000@crslsb.org.au
SUMMARY:Young Endeavour Scholarship 2019
DESCRIPTION:The Cairns RSL Sub Branch is once again offering a full Scholarship to one Cairns youth aged 16-23. They will be given the opportunity to experience a Voyage on the Young Endeavour sailing from Cairns to Airlie Beach 13th June to 23rd June this year 2019. \nTo apply for the Scholarship you must: \n\nBe able to attend the Voyage from 13th June to 23rd June.\nMeet the criteria set out below.\nSubmit an application to the Sub Branch by Email or Mail\, or in Person.\nSupplying your full personal details.\nSupplying\, up to 1000 words\, of why you feel you\nshould be selected\, what you hope to achieve from\nthe experience and how you can relate that\nexperience to your own school/professional life.\n\nEntries close Fri\, 31st May 5pm and the successful candidate will be announced 3rd June. \nAddress submission to\nMal McCullough\nExecutive Officer\nCairns RSL Sub Branch\nP.O. Box 94\nCairns North 4870\nor\nmal.mccullough@crslsb.org.au\nPh: 40515254 \nYoung Endeavour Criteria\, applicants must: \n\nbe Australian citizens or permanent residents\nbe aged 16-23 years on the day the voyage departs\nweigh less than 120kg\nbe able to swim 50 metres\nbe in good health
URL:https://crslsb.org.au/event/young-endeavour-scholarship-2019/
LOCATION:115 Esplanade\, Cairns\, Queensland\, 4870\, Australia
ATTACH;FMTTYPE=image/jpeg:https://crslsb.org.au/wp-content/uploads/2019/05/2018-Jordon-Huntly-on-Endeavour-6.jpg
ORGANIZER;CN="Cairns RSL Sub Branch":MAILTO:admin@crslsb.org.au
GEO:-16.917679;145.7747862
X-APPLE-STRUCTURED-LOCATION;VALUE=URI;X-ADDRESS=115 Esplanade Cairns Queensland 4870 Australia;X-APPLE-RADIUS=500;X-TITLE=115 Esplanade:geo:145.7747862,-16.917679
END:VEVENT
END:VCALENDAR