BEGIN:VCALENDAR
VERSION:2.0
PRODID:-//Cairns RSL SubBranch - ECPv6.3.2//NONSGML v1.0//EN
CALSCALE:GREGORIAN
METHOD:PUBLISH
X-ORIGINAL-URL:https://crslsb.org.au
X-WR-CALDESC:Events for Cairns RSL SubBranch
REFRESH-INTERVAL;VALUE=DURATION:PT1H
X-Robots-Tag:noindex
X-PUBLISHED-TTL:PT1H
BEGIN:VTIMEZONE
TZID:Australia/Brisbane
BEGIN:STANDARD
TZOFFSETFROM:+1000
TZOFFSETTO:+1000
TZNAME:AEST
DTSTART:20190101T000000
END:STANDARD
END:VTIMEZONE
BEGIN:VEVENT
DTSTART;TZID=Australia/Brisbane:20200308T100000
DTEND;TZID=Australia/Brisbane:20200308T113000
DTSTAMP:20260421T210009
CREATED:20200114T061130Z
LAST-MODIFIED:20200226T011403Z
UID:49547-1583661600-1583667000@crslsb.org.au
SUMMARY:International Women's Day High Tea
DESCRIPTION:Tickets can be purchased online at our shop.  \nThis year\, for the first time we will be recognising women in our community who have made an outstanding contribution towards our Defence community by presenting three award categories; Current serving member\, Former serving member and member of the Cairns Community. Nominations are now open and will close on Monday 24th February. To register a nomination complete the nomination form and email it through to Rebecca Milliner at rebecca.milliner@crslsb.org.au. \nEach year\, Cairns RSL Sub Branch and Cairns & District Ex-Service Women’s Sub Branch host an event to celebrate women in our community and in particular within our Defence Community. We recognise those women who have served or are serving our country and the outstanding achievements they have made during their service. \nKeynote speaker Veteran\, Sergeant Kylie Michelle-Walters promises to be a shining example of a woman who has been actively involved and lead the way under some extraordinary circumstances. \nInternational Women’s Day is celebrated across the world on 8 March every year. The purpose of the day is to recognise women and their achievements regardless of nationality\, ethnicity or cultural\, political or economic background.
URL:https://crslsb.org.au/event/international-womens-day-high-tea/
LOCATION:Catalina Room\, 115 Esplanade\, Cairns\, Queensland\, 4870\, Australia
CATEGORIES:Other Events
ATTACH;FMTTYPE=image/jpeg:https://crslsb.org.au/wp-content/uploads/2020/01/sold-out.jpg
ORGANIZER;CN="Cairns RSL Sub Branch":MAILTO:admin@crslsb.org.au
GEO:-16.917679;145.7747862
X-APPLE-STRUCTURED-LOCATION;VALUE=URI;X-ADDRESS=Catalina Room 115 Esplanade Cairns Queensland 4870 Australia;X-APPLE-RADIUS=500;X-TITLE=115 Esplanade:geo:145.7747862,-16.917679
END:VEVENT
BEGIN:VEVENT
DTSTART;TZID=Australia/Brisbane:20190628T180000
DTEND;TZID=Australia/Brisbane:20190628T190000
DTSTAMP:20260421T210009
CREATED:20190618T044623Z
LAST-MODIFIED:20190618T044623Z
UID:2016-1561744800-1561748400@crslsb.org.au
SUMMARY:Preview screening of the Armistice Centenary Mini Documentary
DESCRIPTION:On the 28th of June 1919 the Treaty of Versailles was signed. This was the most important of the peace treaties\, that brought about the end of the First World War. \n\n\n \n\n\nTo commemorative the 100th Anniversary of the Treaty of Versailles\, you are invited to join us for a preview screening of the Armistice Centenary Mini Documentary.\n\n\n \n\n\nThis is a short twenty-minute film produced by the Cairns RSL Sub Branch and was made possible thanks to funding received from the Australian Government Department of Veterans’ Affairs under the Armistice Centenary Grants Program. \n\n\n \n\n\nThe film focuses on four local soldiers from our region Private Caleb James Shang DCM & BAR. MM\, Private Henry Dalziel VC\, Private Ernest Austin Ainscow and Trooper Harry Doyle. \n\n\n \n\n\nDrinks and canapes will be provided from 6:00 – 6:30pm followed by a preview screening. \n\n\n \n\n\nTickets are $15 per person and can be purchased by phoning Niki on 4051 5254.\n\n\n \n\n\nPlease note: This is an exclusive event and seating is limited\, RSVP as soon as possible to reserve your seat.
URL:https://crslsb.org.au/event/preview-screening-of-the-armistice-centenary-mini-documentary/
LOCATION:Catalina Room\, 115 Esplanade\, Cairns\, Queensland\, 4870\, Australia
ATTACH;FMTTYPE=image/png:https://crslsb.org.au/wp-content/uploads/2019/06/Armistice-Centenary-Mini-Documentary-preview-screening.png
ORGANIZER;CN="Cairns RSL Sub Branch":MAILTO:admin@crslsb.org.au
GEO:-16.917679;145.7747862
X-APPLE-STRUCTURED-LOCATION;VALUE=URI;X-ADDRESS=Catalina Room 115 Esplanade Cairns Queensland 4870 Australia;X-APPLE-RADIUS=500;X-TITLE=115 Esplanade:geo:145.7747862,-16.917679
END:VEVENT
BEGIN:VEVENT
DTSTART;TZID=Australia/Brisbane:20190517T040000
DTEND;TZID=Australia/Brisbane:20190517T060000
DTSTAMP:20260421T210009
CREATED:20190507T184536Z
LAST-MODIFIED:20190507T184624Z
UID:1805-1558065600-1558072800@crslsb.org.au
SUMMARY:Cairns Sleep Awareness
DESCRIPTION:Join us as we provide an introduction to sleep health\, education on conditions affecting your sleep\, and actions you can take to lead a more fulfilling life through better sleep. \nEVERYBODY can get a good night’s sleep\, it’s just a matter of knowing how to do it.
URL:https://crslsb.org.au/event/cairns-sleep-awareness/
LOCATION:Catalina Room\, 115 Esplanade\, Cairns\, Queensland\, 4870\, Australia
ATTACH;FMTTYPE=image/jpeg:https://crslsb.org.au/wp-content/uploads/2019/05/Sleep-Awareness-Cairns-EDM-Banner.jpg
ORGANIZER;CN="Cairns RSL Sub Branch":MAILTO:admin@crslsb.org.au
GEO:-16.917679;145.7747862
X-APPLE-STRUCTURED-LOCATION;VALUE=URI;X-ADDRESS=Catalina Room 115 Esplanade Cairns Queensland 4870 Australia;X-APPLE-RADIUS=500;X-TITLE=115 Esplanade:geo:145.7747862,-16.917679
END:VEVENT
BEGIN:VEVENT
DTSTART;TZID=Australia/Brisbane:20190308T170000
DTEND;TZID=Australia/Brisbane:20190308T183000
DTSTAMP:20260421T210009
CREATED:20190128T204142Z
LAST-MODIFIED:20190303T155322Z
UID:1526-1552064400-1552069800@crslsb.org.au
SUMMARY:International Women's Day Breakfast
DESCRIPTION:The Cairns RSL Sub Branch in partnership with the Cairns and District’s Ex-Service Women’s Sub Branch will be hosting our annual International Women’s Day breakfast to celebrate the wonderful contributions women have made to the community. \nThere is no doubt that key note speaker Natalee Johnston will move and inspire guest with tales of her career in the Royal Australian Navy (RAN). \nNatalee joined the Royal Australian Navy in January 1994 and within four years had gone on to complete her Bachelor of Science majoring in Physics\, gained her pilots wings and become the RAN’s first female pilot. \nGuest will be given the opportunity for Q&A session and to meet Natalee.  The breakfast will also include a hot/cold buffet style breakfast and an extensive range of raffle prizes to win thanks to the following local businesses – Regan O’Neill Art\, Piccone’s Supa IGA\, Elysium Apartments\, Our Happy Life\, Louie’s Liquor Barn\, Cairns ZOOM and Wildlife Doom\, Kuranda Scenic Railway\, Reef Hotel Casino\, Cazaly’s Cairns\, Tjapukai and Brothers League Club. \nThis is sure to be a sold out event not to be missed! Tickets can be purchased online at our shop or by phoning 4051 5254.
URL:https://crslsb.org.au/event/international-womens-day-breakfast/
LOCATION:Catalina Room\, 115 Esplanade\, Cairns\, Queensland\, 4870\, Australia
CATEGORIES:Other Events
ATTACH;FMTTYPE=image/jpeg:https://crslsb.org.au/wp-content/uploads/2019/01/Sold-out-Cairns-Post-quarter-page-ad.jpg
ORGANIZER;CN="Cairns RSL Sub Branch":MAILTO:admin@crslsb.org.au
GEO:-16.917679;145.7747862
X-APPLE-STRUCTURED-LOCATION;VALUE=URI;X-ADDRESS=Catalina Room 115 Esplanade Cairns Queensland 4870 Australia;X-APPLE-RADIUS=500;X-TITLE=115 Esplanade:geo:145.7747862,-16.917679
END:VEVENT
END:VCALENDAR