BEGIN:VCALENDAR
VERSION:2.0
PRODID:-//Cairns RSL SubBranch - ECPv6.3.2//NONSGML v1.0//EN
CALSCALE:GREGORIAN
METHOD:PUBLISH
X-ORIGINAL-URL:https://crslsb.org.au
X-WR-CALDESC:Events for Cairns RSL SubBranch
REFRESH-INTERVAL;VALUE=DURATION:PT1H
X-Robots-Tag:noindex
X-PUBLISHED-TTL:PT1H
BEGIN:VTIMEZONE
TZID:Australia/Brisbane
BEGIN:STANDARD
TZOFFSETFROM:+1000
TZOFFSETTO:+1000
TZNAME:AEST
DTSTART:20250101T000000
END:STANDARD
END:VTIMEZONE
BEGIN:VEVENT
DTSTART;TZID=Australia/Brisbane:20250726T180000
DTEND;TZID=Australia/Brisbane:20250726T210000
DTSTAMP:20260422T073405
CREATED:20250609T034602Z
LAST-MODIFIED:20250609T034728Z
UID:56570-1753552800-1753563600@crslsb.org.au
SUMMARY:2025 Christmas in July Trivia
DESCRIPTION:Join us for our Annual \nCHRISTMAS IN JULY TRVIA \nSaturday 26th July at 6pm \nLakefield Room\, Double Tree by Hilton – 121 -123 Esplanade\, Cairns City \n$250 a Table of 10 OR $25 a ticket \nTicket Includes Trivia\, Drink on arrival\, Party Platter & Chips and LOTS OF FUN!! \n 
URL:https://crslsb.org.au/event/2025-christmas-in-july-trivia/
LOCATION:Lakefield Room\, Double Tree by Hilton\, 121-123 Esplanade\, Cairns City\, QLD\, 4870\, Australia
ATTACH;FMTTYPE=image/jpeg:https://crslsb.org.au/wp-content/uploads/2025/06/Christmas-in-July-Flyer-with-QR-Code.jpeg
ORGANIZER;CN="Cairns RSL Sub Branch":MAILTO:admin@crslsb.org.au
GEO:-16.9170268;145.774102
X-APPLE-STRUCTURED-LOCATION;VALUE=URI;X-ADDRESS=Lakefield Room Double Tree by Hilton 121-123 Esplanade Cairns City QLD 4870 Australia;X-APPLE-RADIUS=500;X-TITLE=121-123 Esplanade:geo:145.774102,-16.9170268
END:VEVENT
END:VCALENDAR