BEGIN:VCALENDAR
VERSION:2.0
PRODID:-//Cairns RSL SubBranch - ECPv6.3.2//NONSGML v1.0//EN
CALSCALE:GREGORIAN
METHOD:PUBLISH
X-WR-CALNAME:Cairns RSL SubBranch
X-ORIGINAL-URL:https://crslsb.org.au
X-WR-CALDESC:Events for Cairns RSL SubBranch
REFRESH-INTERVAL;VALUE=DURATION:PT1H
X-Robots-Tag:noindex
X-PUBLISHED-TTL:PT1H
BEGIN:VTIMEZONE
TZID:Australia/Brisbane
BEGIN:STANDARD
TZOFFSETFROM:+1000
TZOFFSETTO:+1000
TZNAME:AEST
DTSTART:20230101T000000
END:STANDARD
END:VTIMEZONE
BEGIN:VEVENT
DTSTART;TZID=Australia/Brisbane:20230925T093000
DTEND;TZID=Australia/Brisbane:20230925T113000
DTSTAMP:20260422T210015
CREATED:20230918T015701Z
LAST-MODIFIED:20230918T015701Z
UID:53526-1695634200-1695641400@crslsb.org.au
SUMMARY:TEEN EVENT – CRATE CLIMBING
DESCRIPTION:TEEN EVENT – CRATE CLIMBING\n\nThis event is for Veteran Teen Youth 12 to 17 Years of age.  Free Event for Veteran Teens. \n\nCrate climbing. Create with crates\, then harness up\, pop on a helmet\, and begin the climb. \nCrate climbing is a unique challenge that requires a blend of concentration\, balance\, cooperation\, communication and boldness.  Count the milk crates you stack underneath your feet as you rise up into the forest canopy and your support group tosses more and more crates up to you!  Lose your balance?  Don’t worry!  You have an experienced Facilitator on the end of your rope to ensure a safe ride back to the ground.
URL:https://crslsb.org.au/event/teen-event-crate-climbing/
LOCATION:Northern Outlook\, 646 Intake Road\, Redlynch Valley\, Queensland\, 4870\, Australia
CATEGORIES:Other Events
ATTACH;FMTTYPE=image/jpeg:https://crslsb.org.au/wp-content/uploads/2023/09/Black-Orange-Skateboarding-Festival-Promotion-Instagram-Post-Template.jpeg
ORGANIZER;CN="Cairns RSL Sub Branch":MAILTO:admin@crslsb.org.au
GEO:-16.9360754;145.6824874
X-APPLE-STRUCTURED-LOCATION;VALUE=URI;X-ADDRESS=Northern Outlook 646 Intake Road Redlynch Valley Queensland 4870 Australia;X-APPLE-RADIUS=500;X-TITLE=646 Intake Road:geo:145.6824874,-16.9360754
END:VEVENT
END:VCALENDAR